BEGIN:VCALENDAR
VERSION:2.0
PRODID:-//Loveland - ECPv6.15.20//NONSGML v1.0//EN
CALSCALE:GREGORIAN
METHOD:PUBLISH
X-WR-CALNAME:Loveland
X-ORIGINAL-URL:https://lovelandcenter.org
X-WR-CALDESC:Events for Loveland
REFRESH-INTERVAL;VALUE=DURATION:PT1H
X-Robots-Tag:noindex
X-PUBLISHED-TTL:PT1H
BEGIN:VTIMEZONE
TZID:America/New_York
BEGIN:DAYLIGHT
TZOFFSETFROM:-0500
TZOFFSETTO:-0400
TZNAME:EDT
DTSTART:20250309T070000
END:DAYLIGHT
BEGIN:STANDARD
TZOFFSETFROM:-0400
TZOFFSETTO:-0500
TZNAME:EST
DTSTART:20251102T060000
END:STANDARD
BEGIN:DAYLIGHT
TZOFFSETFROM:-0500
TZOFFSETTO:-0400
TZNAME:EDT
DTSTART:20260308T070000
END:DAYLIGHT
BEGIN:STANDARD
TZOFFSETFROM:-0400
TZOFFSETTO:-0500
TZNAME:EST
DTSTART:20261101T060000
END:STANDARD
BEGIN:DAYLIGHT
TZOFFSETFROM:-0500
TZOFFSETTO:-0400
TZNAME:EDT
DTSTART:20270314T070000
END:DAYLIGHT
BEGIN:STANDARD
TZOFFSETFROM:-0400
TZOFFSETTO:-0500
TZNAME:EST
DTSTART:20271107T060000
END:STANDARD
BEGIN:DAYLIGHT
TZOFFSETFROM:-0500
TZOFFSETTO:-0400
TZNAME:EDT
DTSTART:20280312T070000
END:DAYLIGHT
BEGIN:STANDARD
TZOFFSETFROM:-0400
TZOFFSETTO:-0500
TZNAME:EST
DTSTART:20281105T060000
END:STANDARD
END:VTIMEZONE
BEGIN:VEVENT
DTSTART;VALUE=DATE:20260415
DTEND;VALUE=DATE:20260417
DTSTAMP:20260416T214019
CREATED:20260403T192143Z
LAST-MODIFIED:20260406T134052Z
UID:4988-1776211200-1776383999@lovelandcenter.org
SUMMARY:2026 Giving Challenge
DESCRIPTION:Save the date to double your impact! \nApril 15-16\, 2026 \nNoon – Noon
URL:https://lovelandcenter.org/event/2026-giving-challenge/
CATEGORIES:Fundraiser
ATTACH;FMTTYPE=image/webp:https://lovelandcenter.org/wp-content/uploads/2026-Giving-Challenge-Event.webp
END:VEVENT
BEGIN:VEVENT
DTSTART;TZID=America/New_York:20260418T110000
DTEND;TZID=America/New_York:20260418T140000
DTSTAMP:20260416T214019
CREATED:20260130T183941Z
LAST-MODIFIED:20260406T132749Z
UID:4818-1776510000-1776520800@lovelandcenter.org
SUMMARY:Brighter Days Brunch in Paradise
DESCRIPTION:Date: Saturday\, April 18th 11am-2pm \nTickets: $60 \nLocation: Punta Gorda Elks Lounge\, 25538 Shore Drivem Punta Gorda \nLink: https://my.onecause.com/event/organizations/sf-001C0000017x108IAA/events/vevt:e4759faa-8e12-4820-9d6b-35f1a6f65bcb/home/story \nEVENT INFORMATION\nBrighter Days Brunch in Paradise is a sun-soaked fundraiser supporting the Loveland Center in Port Charlotte. Enjoy a relaxed afternoon with island-inspired brunch bites\, mimosas\, live music\, fun games\, and tropical vibes—all while helping empower individuals with intellectual and developmental disabilities.\nTickets include a brunch buffet and 2 drink tickets. \nHighlights: \n\nIsland-themed buffet\nMimosa and Bloody Mary bar\nLive island music\nRaffles and wine pull\nFun photo opportunities and tropical attire
URL:https://lovelandcenter.org/event/brighter-days-brunch-in-paradise/
LOCATION:Punta Gorda Elks Lounge\, 25538 Shore Drive\, Punta Gorda\, FL\, 33950\, United States
CATEGORIES:Fundraiser,Social
ATTACH;FMTTYPE=image/jpeg:https://lovelandcenter.org/wp-content/uploads/Brighter-Days-Loveland-Website.jpg
END:VEVENT
BEGIN:VEVENT
DTSTART;TZID=America/New_York:20260521T180000
DTEND;TZID=America/New_York:20260521T190000
DTSTAMP:20260416T214019
CREATED:20260409T153025Z
LAST-MODIFIED:20260409T153706Z
UID:5026-1779386400-1779390000@lovelandcenter.org
SUMMARY:AdvoCan Series: The Expectation and Importance of Quality Support Coordination with Melissa Mazaeda
DESCRIPTION:Presented by: Melissa Mazaeda\nLocation: Virtual \nEvery individual needs support to thrive. When you join Florida’s medicaid waiver for individuals with Intellectual and developmental disabilities you have a waiver support coordinator who is that support helping you navigate this complex system. Come learn from long time support coordinator and advocate\, Melissa Mazaeda\, about how a quality support coordinator can help improve your quality of services\, and how to advocate for yourself if you are not getting the support you need. \nEvent Details: \nThursday\, May 21 · 6:00 – 7:00pm\nTime zone: America/New_York\nGoogle Meet joining info\nVideo call link: https://meet.google.com/vig-dcmp-gfd\nOr dial: ‪(US) +1 609-800-2173‬ PIN: ‪227 120 580‬#\nMore phone numbers: https://tel.meet/vig-dcmp-gfd?pin=2675581597261
URL:https://lovelandcenter.org/event/advocan-may-2026/
LOCATION:Virtual
CATEGORIES:Advocan
ATTACH;FMTTYPE=image/webp:https://lovelandcenter.org/wp-content/uploads/2023/12/advocan-series-2024.webp
END:VEVENT
BEGIN:VEVENT
DTSTART;TZID=America/New_York:20260530T170000
DTEND;TZID=America/New_York:20260530T190000
DTSTAMP:20260416T214019
CREATED:20260406T133514Z
LAST-MODIFIED:20260406T133657Z
UID:4995-1780160400-1780167600@lovelandcenter.org
SUMMARY:Spring Craft Night
DESCRIPTION:Date: Saturday\, May 30th 5:00pm-7:00pm \nTickets: $15 per person \nLocation: Port Charlotte Loveland\, 4075 Tamiami Tri\, Port Charlotte 33952 \nR.S.V.P. by: May 28th \nR.S.V.P and More Information: avantries@lovelandcenter.org (941) 493-0016 ext. 201
URL:https://lovelandcenter.org/event/spring-craft-night/
LOCATION:Loveland Port Charlotte\, 4075 Tamiami Trail\, Port Charlotte\, FL\, 33952\, United States
CATEGORIES:Social
ATTACH;FMTTYPE=image/webp:https://lovelandcenter.org/wp-content/uploads/spring-craft-night-571.webp
END:VEVENT
BEGIN:VEVENT
DTSTART;TZID=America/New_York:20260716T180000
DTEND;TZID=America/New_York:20260716T180000
DTSTAMP:20260416T214019
CREATED:20251021T152335Z
LAST-MODIFIED:20251021T153047Z
UID:4533-1784224800-1784224800@lovelandcenter.org
SUMMARY:AdvoCan Series: Topic To Be Announced
DESCRIPTION:Presented by: To Be Announced\nLocation: Virtual \nTopic To Be Announced \nAimed at providing ongoing support for caregivers of individuals with intellectual and developmental disabilities\, The Advocan Series is a free quarterly digital session. \nOffered the 3rd Thursday every quarter\, topics vary from how to better support the individuals with disabilities in your life to how to better support yourself as a caregiver. \nJoin Zoom Meeting\nhttps://us02web.zoom.us/j/86831933664?pwd=N0w0ek1icmRkT0EvclVDZWhZSkdZdz09 \nMeeting ID: 868 3193 3664\nPasscode: 821261
URL:https://lovelandcenter.org/event/advocan-series-topic-jul-2026/
LOCATION:Virtual
CATEGORIES:Advocan
ATTACH;FMTTYPE=image/webp:https://lovelandcenter.org/wp-content/uploads/2023/12/advocan-series-2024.webp
END:VEVENT
BEGIN:VEVENT
DTSTART;TZID=America/New_York:20261015T180000
DTEND;TZID=America/New_York:20261015T180000
DTSTAMP:20260416T214019
CREATED:20251021T152506Z
LAST-MODIFIED:20251021T153130Z
UID:4537-1792087200-1792087200@lovelandcenter.org
SUMMARY:AdvoCan Series: Topic To Be Announced
DESCRIPTION:Presented by: To Be Announced\nLocation: Virtual \nTopic To Be Announced \nAimed at providing ongoing support for caregivers of individuals with intellectual and developmental disabilities\, The Advocan Series is a free quarterly digital session. \nOffered the 3rd Thursday every quarter\, topics vary from how to better support the individuals with disabilities in your life to how to better support yourself as a caregiver. \nJoin Zoom Meeting\nhttps://us02web.zoom.us/j/86831933664?pwd=N0w0ek1icmRkT0EvclVDZWhZSkdZdz09 \nMeeting ID: 868 3193 3664\nPasscode: 821261
URL:https://lovelandcenter.org/event/advocan-series-oct-2026/
LOCATION:Virtual
CATEGORIES:Advocan
ATTACH;FMTTYPE=image/webp:https://lovelandcenter.org/wp-content/uploads/2023/12/advocan-series-2024.webp
END:VEVENT
BEGIN:VEVENT
DTSTART;TZID=America/New_York:20270121T180000
DTEND;TZID=America/New_York:20270121T180000
DTSTAMP:20260416T214019
CREATED:20251021T152929Z
LAST-MODIFIED:20251021T152929Z
UID:4541-1800554400-1800554400@lovelandcenter.org
SUMMARY:AdvoCan Series: Topic To Be Announced
DESCRIPTION:Presented by: To Be Announced\nLocation: Virtual \nTopic To Be Announced \nAimed at providing ongoing support for caregivers of individuals with intellectual and developmental disabilities\, The Advocan Series is a free quarterly digital session. \nOffered the 3rd Thursday every quarter\, topics vary from how to better support the individuals with disabilities in your life to how to better support yourself as a caregiver. \nJoin Zoom Meeting\nhttps://us02web.zoom.us/j/86831933664?pwd=N0w0ek1icmRkT0EvclVDZWhZSkdZdz09 \nMeeting ID: 868 3193 3664\nPasscode: 821261
URL:https://lovelandcenter.org/event/advocan-series-jan-2027/
LOCATION:Virtual
CATEGORIES:Advocan
ATTACH;FMTTYPE=image/webp:https://lovelandcenter.org/wp-content/uploads/2023/12/advocan-series-2024.webp
END:VEVENT
END:VCALENDAR